BEGIN:VCALENDAR
VERSION:2.0
PRODID:-//26 - 27 Auditions - ECPv6.15.20//NONSGML v1.0//EN
CALSCALE:GREGORIAN
METHOD:PUBLISH
X-WR-CALNAME:26 - 27 Auditions
X-ORIGINAL-URL:https://oyodancecompany.org
X-WR-CALDESC:Events for 26 - 27 Auditions
REFRESH-INTERVAL;VALUE=DURATION:PT1H
X-Robots-Tag:noindex
X-PUBLISHED-TTL:PT1H
BEGIN:VTIMEZONE
TZID:America/New_York
BEGIN:DAYLIGHT
TZOFFSETFROM:-0500
TZOFFSETTO:-0400
TZNAME:EDT
DTSTART:20250309T070000
END:DAYLIGHT
BEGIN:STANDARD
TZOFFSETFROM:-0400
TZOFFSETTO:-0500
TZNAME:EST
DTSTART:20251102T060000
END:STANDARD
BEGIN:DAYLIGHT
TZOFFSETFROM:-0500
TZOFFSETTO:-0400
TZNAME:EDT
DTSTART:20260308T070000
END:DAYLIGHT
BEGIN:STANDARD
TZOFFSETFROM:-0400
TZOFFSETTO:-0500
TZNAME:EST
DTSTART:20261101T060000
END:STANDARD
BEGIN:DAYLIGHT
TZOFFSETFROM:-0500
TZOFFSETTO:-0400
TZNAME:EDT
DTSTART:20270314T070000
END:DAYLIGHT
BEGIN:STANDARD
TZOFFSETFROM:-0400
TZOFFSETTO:-0500
TZNAME:EST
DTSTART:20271107T060000
END:STANDARD
END:VTIMEZONE
BEGIN:VEVENT
DTSTART;TZID=America/New_York:20260523T130000
DTEND;TZID=America/New_York:20260523T150000
DTSTAMP:20260421T214138
CREATED:20250523T022423Z
LAST-MODIFIED:20251109T154717Z
UID:10000051-1779541200-1779548400@oyodancecompany.org
SUMMARY:Heartbeat in Motion: Dance and Drum Circle
DESCRIPTION:Feel the beat\, move your body\, and connect with your inner rhythm in Heartbeat in Motion\, a soulful\, high-energy workshop where drumming and dance come together to awaken your senses and free your spirit. \n\n\n\nWhat to Expect: \n\n\n\n\nJoin shaman Iggy Garcia for a community drum circle where you’ll learn basic rhythms and techniques\, using hand drums and percussion instruments to create a powerful\, shared heartbeat.\n\n\n\nLet the music move you as we invite you to express yourself through your body—no choreography\, just pure feeling.\n\n\n\nGrounded in ancient traditions and modern mindfulness\, this experience is about connection\, release\, and joy—connecting with yourself\, others\, and the present moment through sound and motion.\n\n\n\n\n\n\n\n\n\n\n\n\nOpen to all levels—no drumming or dance experience needed. Just bring your curiosity\, your energy\, and a willingness to let go.
URL:https://oyodancecompany.org/event/heartbeat-in-mothion-dance-and-drum-circle/
LOCATION:Griggs Reservoir\, 2933 Riverside Dr\, Oh\, 43228
ATTACH;FMTTYPE=image/webp:https://oyodancecompany.org/wp-content/uploads/2025/05/Iggy-drum-02.webp
END:VEVENT
END:VCALENDAR